BEGIN:VCALENDAR
VERSION:2.0
PRODID:-//TU Delft Campus - ECPv6.15.17//NONSGML v1.0//EN
CALSCALE:GREGORIAN
METHOD:PUBLISH
X-WR-CALNAME:TU Delft Campus
X-ORIGINAL-URL:https://oud.tudelftcampus.nl
X-WR-CALDESC:Events for TU Delft Campus
REFRESH-INTERVAL;VALUE=DURATION:PT1H
X-Robots-Tag:noindex
X-PUBLISHED-TTL:PT1H
BEGIN:VTIMEZONE
TZID:Europe/Amsterdam
BEGIN:DAYLIGHT
TZOFFSETFROM:+0100
TZOFFSETTO:+0200
TZNAME:CEST
DTSTART:20230326T010000
END:DAYLIGHT
BEGIN:STANDARD
TZOFFSETFROM:+0200
TZOFFSETTO:+0100
TZNAME:CET
DTSTART:20231029T010000
END:STANDARD
BEGIN:DAYLIGHT
TZOFFSETFROM:+0100
TZOFFSETTO:+0200
TZNAME:CEST
DTSTART:20240331T010000
END:DAYLIGHT
BEGIN:STANDARD
TZOFFSETFROM:+0200
TZOFFSETTO:+0100
TZNAME:CET
DTSTART:20241027T010000
END:STANDARD
BEGIN:DAYLIGHT
TZOFFSETFROM:+0100
TZOFFSETTO:+0200
TZNAME:CEST
DTSTART:20250330T010000
END:DAYLIGHT
BEGIN:STANDARD
TZOFFSETFROM:+0200
TZOFFSETTO:+0100
TZNAME:CET
DTSTART:20251026T010000
END:STANDARD
END:VTIMEZONE
BEGIN:VEVENT
DTSTART;TZID=Europe/Amsterdam:20241008T100000
DTEND;TZID=Europe/Amsterdam:20241008T163000
DTSTAMP:20260422T061010
CREATED:20240926T142522Z
LAST-MODIFIED:20240926T142522Z
UID:22846-1728381600-1728405000@oud.tudelftcampus.nl
SUMMARY:Getinge Upstream Bioprocessing Summit
DESCRIPTION:  \nSingle-use solutions from research to production\n\nGetinge Applikon is pleased to host the upcoming Getinge Upstream Bioprocessing Summit\, an educational event for bioprocessing professionals who would like to learn more about single-use solutions. \nLearning Objectives\n\nGain familiarity with our single-use bioreactors and bioreactors controllers from lab to production scale.\nBuild confidence in using bioreactors and understand how they can improve your process.\nUnderstand the advantages of single-use bioreactors for lab-\, pilot- and production-scale processes.\nConnect with our bioprocessing experts and other bioprocessing professionals in your region.\n\nPreliminary Program\n\n10:00 – Walk-in\n10:30 – Educational program\, including: \n\nWelcome and introduction\nGetinge’s single-use bioprocessing solutions\nHands-on session lab-scale single-use solutions\nLunch\nFactory Tour\nCase study lab-scale single-use solutions\nHands-on session production-scale single-use solutions\nCoffee break\nCase study production-scale single-use solutions\nWrap up and Q&A\n\n16:30 – End of program \nPlease register by clicking here before October 3\, 2024. There are a limited number of seats available\, so don’t wait too long. Participation is free of charge. \n\n\nLocation\nGetinge Applikon\nHeertjeslaan 2\, Delft
URL:https://oud.tudelftcampus.nl/event/getinge-upstream-bioprocessing-summit/
LOCATION:Getinge Applikon\, Heertjeslaan 2\, Delft
ATTACH;FMTTYPE=image/jpeg:https://oud.tudelftcampus.nl/wp-content/uploads/2024/09/kelly-chiang-fS6oRcdiIis-unsplash-scaled.jpg
END:VEVENT
END:VCALENDAR