BEGIN:VCALENDAR
VERSION:2.0
PRODID:-//TU Delft Campus - ECPv6.15.17//NONSGML v1.0//EN
CALSCALE:GREGORIAN
METHOD:PUBLISH
X-WR-CALNAME:TU Delft Campus
X-ORIGINAL-URL:https://oud.tudelftcampus.nl
X-WR-CALDESC:Events for TU Delft Campus
REFRESH-INTERVAL;VALUE=DURATION:PT1H
X-Robots-Tag:noindex
X-PUBLISHED-TTL:PT1H
BEGIN:VTIMEZONE
TZID:Europe/Amsterdam
BEGIN:DAYLIGHT
TZOFFSETFROM:+0100
TZOFFSETTO:+0200
TZNAME:CEST
DTSTART:20220327T010000
END:DAYLIGHT
BEGIN:STANDARD
TZOFFSETFROM:+0200
TZOFFSETTO:+0100
TZNAME:CET
DTSTART:20221030T010000
END:STANDARD
BEGIN:DAYLIGHT
TZOFFSETFROM:+0100
TZOFFSETTO:+0200
TZNAME:CEST
DTSTART:20230326T010000
END:DAYLIGHT
BEGIN:STANDARD
TZOFFSETFROM:+0200
TZOFFSETTO:+0100
TZNAME:CET
DTSTART:20231029T010000
END:STANDARD
BEGIN:DAYLIGHT
TZOFFSETFROM:+0100
TZOFFSETTO:+0200
TZNAME:CEST
DTSTART:20240331T010000
END:DAYLIGHT
BEGIN:STANDARD
TZOFFSETFROM:+0200
TZOFFSETTO:+0100
TZNAME:CET
DTSTART:20241027T010000
END:STANDARD
END:VTIMEZONE
BEGIN:VEVENT
DTSTART;TZID=Europe/Amsterdam:20230525T083000
DTEND;TZID=Europe/Amsterdam:20230525T103000
DTSTAMP:20260423T051605
CREATED:20230405T103651Z
LAST-MODIFIED:20230405T133745Z
UID:15901-1685003400-1685010600@oud.tudelftcampus.nl
SUMMARY:Founders Breakfast
DESCRIPTION:  \nTogether with all the start- and scale-up hubs in Delft*\, we are organizing a special (free) breakfast event for founders. A great opportunity to meet\, network and share experiences with like-minded entrepreneurs. \nThe purpose of the event is to foster a sense of community among founders\, share knowledge and learn from each other’s experiences. \nWe will kick off with a short icebreaker\, followed by insights from seasoned founders. Afterwards\, we invite you to take part in the discussion and share your challenges and successes with the group. \nJoin us for an inspiring start of your day! \n  \nThis event is organized in light of the Upstream Festival. Check out Upstream Festival 2023 | Connecting Change Makers for more information and the programme. \n*YES!Delft\, NEXT Delft\, Planet.Bio\, Buccaneer Delft\, Quantum Delft\, Aerospace Innovation Hub\, RoboHouse. \nLocation\nFirma van Buiten\nThijsseweg 1\, Delft
URL:https://oud.tudelftcampus.nl/event/founders-breakfast/
LOCATION:Firma van Buiten\, Thijsseweg 1\, Delft\, 2629 JA
ATTACH;FMTTYPE=image/jpeg:https://oud.tudelftcampus.nl/wp-content/uploads/2023/04/toa-heftiba-p826iRCJ7mw-unsplash-scaled.jpg
END:VEVENT
END:VCALENDAR