BEGIN:VCALENDAR
VERSION:2.0
PRODID:-//TU Delft Campus - ECPv6.15.17//NONSGML v1.0//EN
CALSCALE:GREGORIAN
METHOD:PUBLISH
X-WR-CALNAME:TU Delft Campus
X-ORIGINAL-URL:https://oud.tudelftcampus.nl
X-WR-CALDESC:Events for TU Delft Campus
REFRESH-INTERVAL;VALUE=DURATION:PT1H
X-Robots-Tag:noindex
X-PUBLISHED-TTL:PT1H
BEGIN:VTIMEZONE
TZID:Europe/Amsterdam
BEGIN:DAYLIGHT
TZOFFSETFROM:+0100
TZOFFSETTO:+0200
TZNAME:CEST
DTSTART:20250330T010000
END:DAYLIGHT
BEGIN:STANDARD
TZOFFSETFROM:+0200
TZOFFSETTO:+0100
TZNAME:CET
DTSTART:20251026T010000
END:STANDARD
BEGIN:DAYLIGHT
TZOFFSETFROM:+0100
TZOFFSETTO:+0200
TZNAME:CEST
DTSTART:20260329T010000
END:DAYLIGHT
BEGIN:STANDARD
TZOFFSETFROM:+0200
TZOFFSETTO:+0100
TZNAME:CET
DTSTART:20261025T010000
END:STANDARD
BEGIN:DAYLIGHT
TZOFFSETFROM:+0100
TZOFFSETTO:+0200
TZNAME:CEST
DTSTART:20270328T010000
END:DAYLIGHT
BEGIN:STANDARD
TZOFFSETFROM:+0200
TZOFFSETTO:+0100
TZNAME:CET
DTSTART:20271031T010000
END:STANDARD
END:VTIMEZONE
BEGIN:VEVENT
DTSTART;TZID=Europe/Amsterdam:20260421T083000
DTEND;TZID=Europe/Amsterdam:20260421T103000
DTSTAMP:20260421T220701
CREATED:20260318T093641Z
LAST-MODIFIED:20260402T090728Z
UID:25505-1776760200-1776767400@oud.tudelftcampus.nl
SUMMARY:[Canceled] Founders Breakfast
DESCRIPTION:  \nWe are happy to announce the 4th edition of our special (free) breakfast event for tech founders. A great opportunity to meet\, network and share experiences with like-minded entrepreneurs. The aim of the event is to foster a sense of community among founders\, share knowledge and learn from each other’s experiences. \nWe will kick off the event with a short icebreaker\, followed by insights from an experienced founder. Afterwards\, we invite you to join the discussion and share your own challenges and successes with the group. Join us for an inspiring morning on the 21st of April. \nMore details about the program and the guest speaker will follow soon. \nLocation\nFirma van Buiten\nThijsseweg 1\, Delft
URL:https://oud.tudelftcampus.nl/event/founders-breakfast-3/
LOCATION:Firma van Buiten\, Thijsseweg 1\, Delft\, 2629 JA
ATTACH;FMTTYPE=image/jpeg:https://oud.tudelftcampus.nl/wp-content/uploads/2025/09/DSF2207_lowres_Willem_de_Kam.jpg
END:VEVENT
END:VCALENDAR