BEGIN:VCALENDAR
VERSION:2.0
PRODID:-//TU Delft Campus - ECPv6.15.17//NONSGML v1.0//EN
CALSCALE:GREGORIAN
METHOD:PUBLISH
X-WR-CALNAME:TU Delft Campus
X-ORIGINAL-URL:https://oud.tudelftcampus.nl
X-WR-CALDESC:Events for TU Delft Campus
REFRESH-INTERVAL;VALUE=DURATION:PT1H
X-Robots-Tag:noindex
X-PUBLISHED-TTL:PT1H
BEGIN:VTIMEZONE
TZID:UTC
BEGIN:STANDARD
TZOFFSETFROM:+0000
TZOFFSETTO:+0000
TZNAME:UTC
DTSTART:20250101T000000
END:STANDARD
END:VTIMEZONE
BEGIN:VEVENT
DTSTART;TZID=UTC:20260319T173000
DTEND;TZID=UTC:20260319T210000
DTSTAMP:20260421T223435
CREATED:20260211T090509Z
LAST-MODIFIED:20260211T090538Z
UID:25287-1773941400-1773954000@oud.tudelftcampus.nl
SUMMARY:Firma van Buiten dinner
DESCRIPTION:  \nCelebrate spring at Firma van Buiten on March 19th.\nCome and enjoy a 5-course dinner at long tables on our atmospheric market square. Creative flavours\, refreshing drinks and good company await you! \n🕠 Doors open at 5:30 p.m.\n🍽️ Dinner starts at 6 p.m.\n🌷 5-course dinner full of springtime flavours\n🍷 Be surprised by Beatriz’s wine pairing \nWant to be sure of your seat?  Book quickly! Sign up via this link. \nLocation\nFirma van Buiten\nThijsseweg 1\n2629JA Delft
URL:https://oud.tudelftcampus.nl/event/firma-van-buiten-diner/
LOCATION:Firma van Buiten\, Thijsseweg 1\, Delft\, 2629 JA
ATTACH;FMTTYPE=image/png:https://oud.tudelftcampus.nl/wp-content/uploads/2026/02/Schermafbeelding-2026-02-11-095845.png
END:VEVENT
END:VCALENDAR