BEGIN:VCALENDAR
VERSION:2.0
PRODID:-//TU Delft Campus - ECPv6.15.17//NONSGML v1.0//EN
CALSCALE:GREGORIAN
METHOD:PUBLISH
X-WR-CALNAME:TU Delft Campus
X-ORIGINAL-URL:https://oud.tudelftcampus.nl
X-WR-CALDESC:Events for TU Delft Campus
REFRESH-INTERVAL;VALUE=DURATION:PT1H
X-Robots-Tag:noindex
X-PUBLISHED-TTL:PT1H
BEGIN:VTIMEZONE
TZID:Europe/Amsterdam
BEGIN:DAYLIGHT
TZOFFSETFROM:+0100
TZOFFSETTO:+0200
TZNAME:CEST
DTSTART:20230326T010000
END:DAYLIGHT
BEGIN:STANDARD
TZOFFSETFROM:+0200
TZOFFSETTO:+0100
TZNAME:CET
DTSTART:20231029T010000
END:STANDARD
BEGIN:DAYLIGHT
TZOFFSETFROM:+0100
TZOFFSETTO:+0200
TZNAME:CEST
DTSTART:20240331T010000
END:DAYLIGHT
BEGIN:STANDARD
TZOFFSETFROM:+0200
TZOFFSETTO:+0100
TZNAME:CET
DTSTART:20241027T010000
END:STANDARD
BEGIN:DAYLIGHT
TZOFFSETFROM:+0100
TZOFFSETTO:+0200
TZNAME:CEST
DTSTART:20250330T010000
END:DAYLIGHT
BEGIN:STANDARD
TZOFFSETFROM:+0200
TZOFFSETTO:+0100
TZNAME:CET
DTSTART:20251026T010000
END:STANDARD
END:VTIMEZONE
BEGIN:VEVENT
DTSTART;TZID=Europe/Amsterdam:20240312T143000
DTEND;TZID=Europe/Amsterdam:20240312T183000
DTSTAMP:20260422T152836
CREATED:20240214T101923Z
LAST-MODIFIED:20240214T102022Z
UID:20469-1710253800-1710268200@oud.tudelftcampus.nl
SUMMARY:Digitalzh Kick-off
DESCRIPTION:  \nOn Tuesday afternoon 12 March\, Digitalzh will launch an inspiring event at the World HortiCenter in Naaldwijk\, specifically aimed at small and medium-sized enterprises from the manufacturing and maritime industries and greenhouse horticulture. This initiative offers unique opportunities to learn from each other how digital technologies can help solve everyday challenges\, such as staff shortages and high costs for materials and energy. Through practical examples\, interactive workshops and expert guidance\, Digitalzh offers concrete tools to deploy digital solutions effectively. \n\nDiscover practical digital solutions for your business\nLearn from success stories of other entrepreneurs\nNetwork with like-minded entrepreneurs and experts\n\nFull event information and register here
URL:https://oud.tudelftcampus.nl/event/digitalzh-kick-off/
LOCATION:World Horti Center\, Europa 1\, Naaldwijk\, Zuid-Holland\, 2672 ZX\, Netherlands
ATTACH;FMTTYPE=image/png:https://oud.tudelftcampus.nl/wp-content/uploads/2024/02/Scherm­afbeelding-2024-02-14-om-10.42.31.png
END:VEVENT
END:VCALENDAR