BEGIN:VCALENDAR
VERSION:2.0
PRODID:-//TU Delft Campus - ECPv6.15.17//NONSGML v1.0//EN
CALSCALE:GREGORIAN
METHOD:PUBLISH
X-WR-CALNAME:TU Delft Campus
X-ORIGINAL-URL:https://oud.tudelftcampus.nl
X-WR-CALDESC:Events for TU Delft Campus
REFRESH-INTERVAL;VALUE=DURATION:PT1H
X-Robots-Tag:noindex
X-PUBLISHED-TTL:PT1H
BEGIN:VTIMEZONE
TZID:Europe/Amsterdam
BEGIN:DAYLIGHT
TZOFFSETFROM:+0100
TZOFFSETTO:+0200
TZNAME:CEST
DTSTART:20220327T010000
END:DAYLIGHT
BEGIN:STANDARD
TZOFFSETFROM:+0200
TZOFFSETTO:+0100
TZNAME:CET
DTSTART:20221030T010000
END:STANDARD
BEGIN:DAYLIGHT
TZOFFSETFROM:+0100
TZOFFSETTO:+0200
TZNAME:CEST
DTSTART:20230326T010000
END:DAYLIGHT
BEGIN:STANDARD
TZOFFSETFROM:+0200
TZOFFSETTO:+0100
TZNAME:CET
DTSTART:20231029T010000
END:STANDARD
BEGIN:DAYLIGHT
TZOFFSETFROM:+0100
TZOFFSETTO:+0200
TZNAME:CEST
DTSTART:20240331T010000
END:DAYLIGHT
BEGIN:STANDARD
TZOFFSETFROM:+0200
TZOFFSETTO:+0100
TZNAME:CET
DTSTART:20241027T010000
END:STANDARD
END:VTIMEZONE
BEGIN:VEVENT
DTSTART;TZID=Europe/Amsterdam:20231018T123000
DTEND;TZID=Europe/Amsterdam:20231018T193000
DTSTAMP:20260422T235835
CREATED:20230718T092620Z
LAST-MODIFIED:20230718T092620Z
UID:16967-1697632200-1697657400@oud.tudelftcampus.nl
SUMMARY:Design & AI Symposium 2023
DESCRIPTION:  \nYou are invited to the 2023 Design & AI Symposium where we are asking: How are designers shaping possible futures? The symposium will be held on the campus of TU Delft and is presented by the Industrial Design Engineering Faculty. At this event\, you’ll be able to join fellow designers and businesses to explore the intersection of design and the future of AI. \nGet more info and your ticket here!
URL:https://oud.tudelftcampus.nl/event/design-ai-symposium-2023/
LOCATION:NEXT Delft\, Molengraaffsingel 8\, Delft\, 2629 JD
ATTACH;FMTTYPE=image/png:https://oud.tudelftcampus.nl/wp-content/uploads/2023/07/https___cdn.evbuc_.com_images_555174839_1581770816723_1_original.png
END:VEVENT
END:VCALENDAR