BEGIN:VCALENDAR
VERSION:2.0
PRODID:-//TU Delft Campus - ECPv6.15.17//NONSGML v1.0//EN
CALSCALE:GREGORIAN
METHOD:PUBLISH
X-WR-CALNAME:TU Delft Campus
X-ORIGINAL-URL:https://oud.tudelftcampus.nl
X-WR-CALDESC:Events for TU Delft Campus
REFRESH-INTERVAL;VALUE=DURATION:PT1H
X-Robots-Tag:noindex
X-PUBLISHED-TTL:PT1H
BEGIN:VTIMEZONE
TZID:Europe/Amsterdam
BEGIN:DAYLIGHT
TZOFFSETFROM:+0100
TZOFFSETTO:+0200
TZNAME:CEST
DTSTART:20220327T010000
END:DAYLIGHT
BEGIN:STANDARD
TZOFFSETFROM:+0200
TZOFFSETTO:+0100
TZNAME:CET
DTSTART:20221030T010000
END:STANDARD
BEGIN:DAYLIGHT
TZOFFSETFROM:+0100
TZOFFSETTO:+0200
TZNAME:CEST
DTSTART:20230326T010000
END:DAYLIGHT
BEGIN:STANDARD
TZOFFSETFROM:+0200
TZOFFSETTO:+0100
TZNAME:CET
DTSTART:20231029T010000
END:STANDARD
BEGIN:DAYLIGHT
TZOFFSETFROM:+0100
TZOFFSETTO:+0200
TZNAME:CEST
DTSTART:20240331T010000
END:DAYLIGHT
BEGIN:STANDARD
TZOFFSETFROM:+0200
TZOFFSETTO:+0100
TZNAME:CET
DTSTART:20241027T010000
END:STANDARD
END:VTIMEZONE
BEGIN:VEVENT
DTSTART;TZID=Europe/Amsterdam:20230907T120000
DTEND;TZID=Europe/Amsterdam:20230907T180000
DTSTAMP:20260423T033847
CREATED:20230713T112342Z
LAST-MODIFIED:20230713T123143Z
UID:16904-1694088000-1694109600@oud.tudelftcampus.nl
SUMMARY:Convergence Health & Technology
DESCRIPTION:  \nConvergence organizes the Health & Technology Community event on September 7th.  Join them in discussion on ‘how to accelerate the transition to sustainable health’ using the strength of the Convergence Health and Technology community and know more about the future endeavors of Convergence Health and Technology. \nThis gathering will take place on Thursday 7 September at Lijm & Cultuur in Delft. \nRegister here for the event.
URL:https://oud.tudelftcampus.nl/event/convergence-health-technology/
LOCATION:Lijm & Cultuur\, Rotterdamseweg 272\, Delft\, 2628 AT
ATTACH;FMTTYPE=image/png:https://oud.tudelftcampus.nl/wp-content/uploads/2023/07/7-sept-bg-web-1280x966-1.png
END:VEVENT
END:VCALENDAR