BEGIN:VCALENDAR
VERSION:2.0
PRODID:-//TU Delft Campus - ECPv6.15.17//NONSGML v1.0//EN
CALSCALE:GREGORIAN
METHOD:PUBLISH
X-WR-CALNAME:TU Delft Campus
X-ORIGINAL-URL:https://oud.tudelftcampus.nl
X-WR-CALDESC:Events for TU Delft Campus
REFRESH-INTERVAL;VALUE=DURATION:PT1H
X-Robots-Tag:noindex
X-PUBLISHED-TTL:PT1H
BEGIN:VTIMEZONE
TZID:UTC
BEGIN:STANDARD
TZOFFSETFROM:+0000
TZOFFSETTO:+0000
TZNAME:UTC
DTSTART:20230101T000000
END:STANDARD
END:VTIMEZONE
BEGIN:VEVENT
DTSTART;TZID=UTC:20240404T170000
DTEND;TZID=UTC:20240404T200000
DTSTAMP:20260422T133633
CREATED:20240305T101019Z
LAST-MODIFIED:20240322T135532Z
UID:20834-1712250000-1712260800@oud.tudelftcampus.nl
SUMMARY:Pub Quiz
DESCRIPTION:  \nJoin us for an exciting twist on our monthly community drinks! This edition\, we’re turning up the fun with a thrilling Pub Quiz hosted at Firma van Buiten! Bring along your colleagues and friends for an evening of friendly competition\, laughter\, and camaraderie. \nMix and mingle with your neighbors and fellow tech enthusiasts while enjoying special beers\, delightful wines\, and great music. Whether you’re a trivia whiz or just looking for a good time\, there’s something for everyone! \nReady to join the fun? Register now! If you’re feeling competitive\, sign up as a team (max. 5 persons) and only fill in one form. Don’t worry if you’re flying solo – sign up as an individual\, and we’ll ensure you’re placed in a group full of awesome people! Don’t miss out on this unforgettable evening – secure your spot today! \nThe quiz will start 17.30 and finishes by 19.30. \nLocation\nFirma van Buiten\nThijsseweg 1\, 2629 JA Delft
URL:https://oud.tudelftcampus.nl/event/community-drinks-3/
LOCATION:Firma van Buiten\, Thijsseweg 1\, Delft\, 2629 JA
ATTACH;FMTTYPE=image/jpeg:https://oud.tudelftcampus.nl/wp-content/uploads/2023/08/M8A0093_lowres_Willem_de_Kam.jpg
END:VEVENT
END:VCALENDAR