BEGIN:VCALENDAR
VERSION:2.0
PRODID:-//TU Delft Campus - ECPv6.15.17//NONSGML v1.0//EN
CALSCALE:GREGORIAN
METHOD:PUBLISH
X-WR-CALNAME:TU Delft Campus
X-ORIGINAL-URL:https://oud.tudelftcampus.nl
X-WR-CALDESC:Events for TU Delft Campus
REFRESH-INTERVAL;VALUE=DURATION:PT1H
X-Robots-Tag:noindex
X-PUBLISHED-TTL:PT1H
BEGIN:VTIMEZONE
TZID:Europe/Amsterdam
BEGIN:DAYLIGHT
TZOFFSETFROM:+0100
TZOFFSETTO:+0200
TZNAME:CEST
DTSTART:20230326T010000
END:DAYLIGHT
BEGIN:STANDARD
TZOFFSETFROM:+0200
TZOFFSETTO:+0100
TZNAME:CET
DTSTART:20231029T010000
END:STANDARD
BEGIN:DAYLIGHT
TZOFFSETFROM:+0100
TZOFFSETTO:+0200
TZNAME:CEST
DTSTART:20240331T010000
END:DAYLIGHT
BEGIN:STANDARD
TZOFFSETFROM:+0200
TZOFFSETTO:+0100
TZNAME:CET
DTSTART:20241027T010000
END:STANDARD
BEGIN:DAYLIGHT
TZOFFSETFROM:+0100
TZOFFSETTO:+0200
TZNAME:CEST
DTSTART:20250330T010000
END:DAYLIGHT
BEGIN:STANDARD
TZOFFSETFROM:+0200
TZOFFSETTO:+0100
TZNAME:CET
DTSTART:20251026T010000
END:STANDARD
END:VTIMEZONE
BEGIN:VEVENT
DTSTART;TZID=Europe/Amsterdam:20240119T130000
DTEND;TZID=Europe/Amsterdam:20240119T170000
DTSTAMP:20260422T181417
CREATED:20240109T131315Z
LAST-MODIFIED:20240109T131315Z
UID:19632-1705669200-1705683600@oud.tudelftcampus.nl
SUMMARY:Co-Lab
DESCRIPTION:  \nThere is a reason why people don’t climb Everest on their own. With a team\, you can overcome obstacles that seem impossible just by yourself. Research over the past 4 decades has shown that startups that are co-founded by a team are more successful. In the Co-Lab workshop\, as a single founder\, founding team\, or entrepreneurial-minded person\, you’ll get the tools and connections to find that new member of your dream team to help you reach the top! \nThe workshop\nA Co-Lab is a 0\,5-day workshop at YES!Delft where you will be challenged to collaborate with fellow entrepreneurs. \n\nWorkshop on business idea ideation & teamwork (a business idea or team not required!)\nGet the tools\, knowledge and connections to find your co-founder or newest team member\nIntroduction and sneak peek into YES!Delft’s services and programs\nParticipation is free\, but registration is necessary as YES!Delft will select participants based on best potential matches.\n\nSign up here \nLocation\nYES!Delft\nMolengraaffsingel 12\, Delft
URL:https://oud.tudelftcampus.nl/event/co-lab-4/
LOCATION:YES!Delft\, Molengraaffsingel 12\, Delft\, 2629 JD
ATTACH;FMTTYPE=image/png:https://oud.tudelftcampus.nl/wp-content/uploads/2024/01/Co-lab_Delft_Main_Visual-1200x675-1.png
END:VEVENT
END:VCALENDAR