BEGIN:VCALENDAR
VERSION:2.0
PRODID:-//TU Delft Campus - ECPv6.15.17//NONSGML v1.0//EN
CALSCALE:GREGORIAN
METHOD:PUBLISH
X-WR-CALNAME:TU Delft Campus
X-ORIGINAL-URL:https://oud.tudelftcampus.nl
X-WR-CALDESC:Events for TU Delft Campus
REFRESH-INTERVAL;VALUE=DURATION:PT1H
X-Robots-Tag:noindex
X-PUBLISHED-TTL:PT1H
BEGIN:VTIMEZONE
TZID:Europe/Amsterdam
BEGIN:DAYLIGHT
TZOFFSETFROM:+0100
TZOFFSETTO:+0200
TZNAME:CEST
DTSTART:20240331T010000
END:DAYLIGHT
BEGIN:STANDARD
TZOFFSETFROM:+0200
TZOFFSETTO:+0100
TZNAME:CET
DTSTART:20241027T010000
END:STANDARD
BEGIN:DAYLIGHT
TZOFFSETFROM:+0100
TZOFFSETTO:+0200
TZNAME:CEST
DTSTART:20250330T010000
END:DAYLIGHT
BEGIN:STANDARD
TZOFFSETFROM:+0200
TZOFFSETTO:+0100
TZNAME:CET
DTSTART:20251026T010000
END:STANDARD
BEGIN:DAYLIGHT
TZOFFSETFROM:+0100
TZOFFSETTO:+0200
TZNAME:CEST
DTSTART:20260329T010000
END:DAYLIGHT
BEGIN:STANDARD
TZOFFSETFROM:+0200
TZOFFSETTO:+0100
TZNAME:CET
DTSTART:20261025T010000
END:STANDARD
END:VTIMEZONE
BEGIN:VEVENT
DTSTART;TZID=Europe/Amsterdam:20251219T170000
DTEND;TZID=Europe/Amsterdam:20251219T210000
DTSTAMP:20260422T044607
CREATED:20250909T143224Z
LAST-MODIFIED:20250909T143510Z
UID:24503-1766163600-1766178000@oud.tudelftcampus.nl
SUMMARY:Christmas bingo dinner night with the Microfoonman!
DESCRIPTION:  \nChristmas bingo dinner evening with the Microphone Man on 19 December! Get ready for an evening full of Christmas hits\, glitter\, fun\, singing along at the top of your lungs and\, of course\, BINGO! On Friday 19 December. The dinner with participation costs €59 per person (excluding drinks). Drinks will be served from 5 p.m.\, and dinner with Bingo will start at 7 p.m. \nRegister here: https://firmavanbuiten.nl/ \nLocation\nThijsseweg 1\n2629JA Delft
URL:https://oud.tudelftcampus.nl/event/christmas-bingo-with-the-microfoonman/
LOCATION:Firma van Buiten\, Thijsseweg 1\, Delft\, 2629 JA
ATTACH;FMTTYPE=image/png:https://oud.tudelftcampus.nl/wp-content/uploads/2025/09/ICFBDaMyIK3r2Ph73OMpgeoTcGeyxiDxpvtRWQW1.logo_csquarred.png
END:VEVENT
END:VCALENDAR