BEGIN:VCALENDAR
VERSION:2.0
PRODID:-//TU Delft Campus - ECPv6.15.17//NONSGML v1.0//EN
CALSCALE:GREGORIAN
METHOD:PUBLISH
X-WR-CALNAME:TU Delft Campus
X-ORIGINAL-URL:https://oud.tudelftcampus.nl
X-WR-CALDESC:Events for TU Delft Campus
REFRESH-INTERVAL;VALUE=DURATION:PT1H
X-Robots-Tag:noindex
X-PUBLISHED-TTL:PT1H
BEGIN:VTIMEZONE
TZID:Europe/Amsterdam
BEGIN:DAYLIGHT
TZOFFSETFROM:+0100
TZOFFSETTO:+0200
TZNAME:CEST
DTSTART:20230326T010000
END:DAYLIGHT
BEGIN:STANDARD
TZOFFSETFROM:+0200
TZOFFSETTO:+0100
TZNAME:CET
DTSTART:20231029T010000
END:STANDARD
BEGIN:DAYLIGHT
TZOFFSETFROM:+0100
TZOFFSETTO:+0200
TZNAME:CEST
DTSTART:20240331T010000
END:DAYLIGHT
BEGIN:STANDARD
TZOFFSETFROM:+0200
TZOFFSETTO:+0100
TZNAME:CET
DTSTART:20241027T010000
END:STANDARD
BEGIN:DAYLIGHT
TZOFFSETFROM:+0100
TZOFFSETTO:+0200
TZNAME:CEST
DTSTART:20250330T010000
END:DAYLIGHT
BEGIN:STANDARD
TZOFFSETFROM:+0200
TZOFFSETTO:+0100
TZNAME:CET
DTSTART:20251026T010000
END:STANDARD
END:VTIMEZONE
BEGIN:VEVENT
DTSTART;TZID=Europe/Amsterdam:20241114T170000
DTEND;TZID=Europe/Amsterdam:20241114T210000
DTSTAMP:20260422T061244
CREATED:20241029T142417Z
LAST-MODIFIED:20241029T142417Z
UID:23116-1731603600-1731618000@oud.tudelftcampus.nl
SUMMARY:BK-Launch Entrepreneurship Awards 2024
DESCRIPTION:On Thursday November 14th\, three innovative start- or scale-ups will be granted with awards to boost their entrepreneurial journey. Sign up now to attend the award ceremony hosted at the Faculty of Architecture & the Built Environment. \nEvent & sign up\nThe BK-Launch Entrepreneurship Awards 2024 will be hosted at the Faculty of Architecture & the Built Environment on Thursday November 14th. The award ceremony will be hosted by Alijd van Doorn (Heembouw) and will include an introduction keynote by Pieter Stoutjesdijk (TheNewMakers). The event is open to the public\, but registration is required. \nSign up HERE
URL:https://oud.tudelftcampus.nl/event/bk-launch-entrepreneurship-awards-2024/
LOCATION:Faculty of Architecture & the Built Environment\, Julianalaan 134\, Delft
ATTACH;FMTTYPE=image/jpeg:https://oud.tudelftcampus.nl/wp-content/uploads/2024/10/20221201_BK_Launch_Entrepreneurship_Week_219-1024x683-1.jpg
END:VEVENT
END:VCALENDAR