BEGIN:VCALENDAR
VERSION:2.0
PRODID:-//TU Delft Campus - ECPv6.15.17//NONSGML v1.0//EN
CALSCALE:GREGORIAN
METHOD:PUBLISH
X-WR-CALNAME:TU Delft Campus
X-ORIGINAL-URL:https://oud.tudelftcampus.nl
X-WR-CALDESC:Events for TU Delft Campus
REFRESH-INTERVAL;VALUE=DURATION:PT1H
X-Robots-Tag:noindex
X-PUBLISHED-TTL:PT1H
BEGIN:VTIMEZONE
TZID:UTC
BEGIN:STANDARD
TZOFFSETFROM:+0000
TZOFFSETTO:+0000
TZNAME:UTC
DTSTART:20250101T000000
END:STANDARD
END:VTIMEZONE
BEGIN:VEVENT
DTSTART;TZID=UTC:20260327T130000
DTEND;TZID=UTC:20260327T160000
DTSTAMP:20260421T215325
CREATED:20260212T141505Z
LAST-MODIFIED:20260212T141647Z
UID:25298-1774616400-1774627200@oud.tudelftcampus.nl
SUMMARY:Biotech Decoded | Essential knowledge for non-scientists
DESCRIPTION:  \nBiotech Decoded | Essential knowledge for non-scientists’ is a concise\, hands-on course designed for professionals without a biotechnology background who work in or with the biotech sector. The course explains the fundamentals of biotechnology\, why it is unique\, and how it shapes today’s major societal and industrial challenges with an emphasis on biotechnology for Planetary Health. After completing this training\, participants will gain a deeper understanding of the biotech context within their organisation and be able to perform their role more effectively within a biotech-driven environment. \nThis first edition of Biotech Decoded is offered as a pilot course. Pilot pricing for this edition has been applied. \nTarget audience\nThis course is designed for non-biotechnologists\, such as: \n• Professionals starting to work in a biotechnology company\n• Professionals working in or with the biotech sector\, including regulators\, policy makers\, investors\, and business professionals \nDates & Time \n• Session 1: Friday\, 27 March | 13:00 – 16:00\n• Session 2: Friday\, 17 April | 13:00 – 16:00 \nRegister here \nLocation\nBeijerinck Center\, Biotech Campus Delft\nAlexander Fleminglaan 1\n2613 AX Delft
URL:https://oud.tudelftcampus.nl/event/biotech-decoded-essential-knowledge-for-non-scientists/
LOCATION:Beijerinck Center\, Biotech Campus Delft\, Alexander Fleminglaan 1\, Delft\, 2613 AX
ATTACH;FMTTYPE=image/png:https://oud.tudelftcampus.nl/wp-content/uploads/2026/02/Schermafbeelding-2026-02-12-151014.png
END:VEVENT
END:VCALENDAR