BEGIN:VCALENDAR
VERSION:2.0
PRODID:-//TU Delft Campus - ECPv6.15.17//NONSGML v1.0//EN
CALSCALE:GREGORIAN
METHOD:PUBLISH
X-WR-CALNAME:TU Delft Campus
X-ORIGINAL-URL:https://oud.tudelftcampus.nl
X-WR-CALDESC:Events for TU Delft Campus
REFRESH-INTERVAL;VALUE=DURATION:PT1H
X-Robots-Tag:noindex
X-PUBLISHED-TTL:PT1H
BEGIN:VTIMEZONE
TZID:Europe/Amsterdam
BEGIN:DAYLIGHT
TZOFFSETFROM:+0100
TZOFFSETTO:+0200
TZNAME:CEST
DTSTART:20220327T010000
END:DAYLIGHT
BEGIN:STANDARD
TZOFFSETFROM:+0200
TZOFFSETTO:+0100
TZNAME:CET
DTSTART:20221030T010000
END:STANDARD
BEGIN:DAYLIGHT
TZOFFSETFROM:+0100
TZOFFSETTO:+0200
TZNAME:CEST
DTSTART:20230326T010000
END:DAYLIGHT
BEGIN:STANDARD
TZOFFSETFROM:+0200
TZOFFSETTO:+0100
TZNAME:CET
DTSTART:20231029T010000
END:STANDARD
BEGIN:DAYLIGHT
TZOFFSETFROM:+0100
TZOFFSETTO:+0200
TZNAME:CEST
DTSTART:20240331T010000
END:DAYLIGHT
BEGIN:STANDARD
TZOFFSETFROM:+0200
TZOFFSETTO:+0100
TZNAME:CET
DTSTART:20241027T010000
END:STANDARD
END:VTIMEZONE
BEGIN:VEVENT
DTSTART;TZID=Europe/Amsterdam:20231214T123000
DTEND;TZID=Europe/Amsterdam:20231214T180000
DTSTAMP:20260422T200953
CREATED:20231010T131455Z
LAST-MODIFIED:20231115T153634Z
UID:18135-1702557000-1702576800@oud.tudelftcampus.nl
SUMMARY:BEYOND BVLOS
DESCRIPTION:BVLOS in the Netherlands\nThere has been speculation for years about how drones will shape the airspace of the future. We are on the brink of a revolution\, but what will that really look like? Is the Netherlands ready? And where are the opportunities? During BEYOND BVLOS we will not tell you any myths\, but we will talk about real technology and applications.\nkeynotes · panel discussion · demonstrations · networking drinks\nOn Thursday\, December 14\, we invite the leading companies and experts in the field of BVLOS together with Drone Flight Company. Tickets are limited and our previous event filled up quickly\, so register on time.\nGet your tickets here! \nPut the date in your calendar and keep an eye on our website & socials. More information will follow soon! Would you like to think about how we can shape this day? Questions about the event? Contact us.\nOn behalf of the team\, \nDietmar Lander \nCommunications & Community Manager \ne: dietmarlander@unmannedvalley.nl \nt: 071 303 0190
URL:https://oud.tudelftcampus.nl/event/beyondbvlos/
LOCATION:Unmanned Valley\, Marinevliegkamp 356\, Valkenburg\, Zuid Holland\, 2236 ZZ
ATTACH;FMTTYPE=image/jpeg:https://oud.tudelftcampus.nl/wp-content/uploads/2023/10/beyond-bvlos.jpeg
END:VEVENT
END:VCALENDAR