BEGIN:VCALENDAR
VERSION:2.0
PRODID:-//TU Delft Campus - ECPv6.15.17//NONSGML v1.0//EN
CALSCALE:GREGORIAN
METHOD:PUBLISH
X-WR-CALNAME:TU Delft Campus
X-ORIGINAL-URL:https://oud.tudelftcampus.nl
X-WR-CALDESC:Events for TU Delft Campus
REFRESH-INTERVAL;VALUE=DURATION:PT1H
X-Robots-Tag:noindex
X-PUBLISHED-TTL:PT1H
BEGIN:VTIMEZONE
TZID:Europe/Amsterdam
BEGIN:DAYLIGHT
TZOFFSETFROM:+0100
TZOFFSETTO:+0200
TZNAME:CEST
DTSTART:20230326T010000
END:DAYLIGHT
BEGIN:STANDARD
TZOFFSETFROM:+0200
TZOFFSETTO:+0100
TZNAME:CET
DTSTART:20231029T010000
END:STANDARD
BEGIN:DAYLIGHT
TZOFFSETFROM:+0100
TZOFFSETTO:+0200
TZNAME:CEST
DTSTART:20240331T010000
END:DAYLIGHT
BEGIN:STANDARD
TZOFFSETFROM:+0200
TZOFFSETTO:+0100
TZNAME:CET
DTSTART:20241027T010000
END:STANDARD
BEGIN:DAYLIGHT
TZOFFSETFROM:+0100
TZOFFSETTO:+0200
TZNAME:CEST
DTSTART:20250330T010000
END:DAYLIGHT
BEGIN:STANDARD
TZOFFSETFROM:+0200
TZOFFSETTO:+0100
TZNAME:CET
DTSTART:20251026T010000
END:STANDARD
END:VTIMEZONE
BEGIN:VEVENT
DTSTART;TZID=Europe/Amsterdam:20241107T103000
DTEND;TZID=Europe/Amsterdam:20241107T200000
DTSTAMP:20260422T061038
CREATED:20240901T070124Z
LAST-MODIFIED:20241001T112359Z
UID:22868-1730975400-1731009600@oud.tudelftcampus.nl
SUMMARY:4TU. Impact Support Day
DESCRIPTION:  \n\n\n\n\n\n\nThis event brings together professionals from the four leading Dutch technical universities to exchange insights\, collaborate\, and explore new developments. Engage with peers on innovation strategies and best practices. Discover how TU Delft is addressing key challenges in sustainability\, digitalisation\, and societal impact. \nThe day will conclude with the 4TU. Impact Challenge Final\, where groundbreaking startups will present their solutions to pressing societal and environmental issues. This is a unique opportunity to connect with innovators and explore potential collaborations. \n\n\n\nMore about the event\n\n\n\n\n\n\n\n\n\n\n\nProgramme\n\n\n\n\n\n\n\n\n\n10.30-11.00 Walk-in and registration – The Green Village\n11.00-11.20 Opening event – The Green Village\n11.35-14.15 Breakout sessions including lunch – X Delft & The Green Village\n14.30-15.00 Plenary programme – The Green Village\n15.00-16.30 Take a tour or network – Diverse locations\n16.30-17.00 Walk-in 4TU. Impact Challenge Final – X Delft\n17.00-18.00 4TU. Impact Challenge – X Delft\n18.00-20.00 Celebration Drinks & Diner – X Delft\n\n\n\n\n\n\n\n\n\n\n\n\n\n\n\nFind more information and register for the event here
URL:https://oud.tudelftcampus.nl/event/4tu-impact-support-day/
LOCATION:The Green Village\, Van den Broekweg\, Delft\, 2628 CR
ATTACH;FMTTYPE=image/jpeg:https://oud.tudelftcampus.nl/wp-content/uploads/2024/09/472_INSPIRE3_DNG_231016_0022.jpg
END:VEVENT
END:VCALENDAR